BEGIN:VCALENDAR
VERSION:2.0
PRODID:-//wp-events-plugin.com//7.2.3.1//EN
BEGIN:VEVENT
UID:77@lincs.fr
DTSTART;TZID=Europe/Paris:20151007T140000
DTEND;TZID=Europe/Paris:20151007T150000
DTSTAMP:20170313T170941Z
URL:https://www.lincs.fr/events/optimal-investment-in-social-signals/
SUMMARY:Optimal Investment in Social Signals.
DESCRIPTION:\n\n\nAbstract:\nThis study is an attempt to determine how much
 individuals should invest in communication in a social context. Two simple
 models of social relationships are considered\, depending on the symmetry
 or asymmetry of links. In both models\, individuals emit costly signals to
 advertise their â€œqualitiesâ€ as potential friends (e.g. by
 posting relevant messages). The study shows that costly communication can
 be a profitable strategy\, and not only for the most successful
 individuals. It also reveals interesting phenomena\, such as the collective
 limitation of signaling investment in the high intensity range. These
 models may be relevant to several aspects of social communication\, in
 everyday life and on virtual social networks.\n\n\n
CATEGORIES:Seminars,Youtube
LOCATION:LINCS Meeting Room 40\, 23\, avenue d'Italie\, Paris\, 75013\,
 France
GEO:48.8283983;2.3568972000000485
X-APPLE-STRUCTURED-LOCATION;VALUE=URI;X-ADDRESS=23\, avenue d'Italie\,
 Paris\, 75013\, France;X-APPLE-RADIUS=100;X-TITLE=LINCS Meeting Room
 40:geo:48.8283983,2.3568972000000485
END:VEVENT
BEGIN:VTIMEZONE
TZID:Europe/Paris
X-LIC-LOCATION:Europe/Paris
BEGIN:DAYLIGHT
DTSTART:20150329T030000
TZOFFSETFROM:+0100
TZOFFSETTO:+0200
TZNAME:CEST
END:DAYLIGHT
END:VTIMEZONE
END:VCALENDAR