BEGIN:VCALENDAR
VERSION:2.0
PRODID:-//wp-events-plugin.com//7.2.3.1//EN
BEGIN:VEVENT
UID:30@lincs.fr
DTSTART;TZID=Europe/Paris:20170111T140000
DTEND;TZID=Europe/Paris:20170111T150000
DTSTAMP:20170313T170808Z
URL:https://www.lincs.fr/events/the-many-faces-of-fault-tolerant-and-byzan
 tine-tolerant-distributed-computing/
SUMMARY:The many faces of fault-tolerant and Byzantine tolerant distributed
 computing
DESCRIPTION:The tolerance to faults and Byzantine behaviors has a long
 tradition in distributed computing. Now\, more than ever\, fault-tolerant
 and Byzantine tolerant distributed computing finds its application in
 various emergent areas raging from sensor networks to distributed storage
 and blockchains. This talk presents recent results on how distributed
 computing deals with various incarnations of faults and Byzantine behaviors
 with case studies taken from body area networks\, mobile robots networks\,
 distributed storage and blockchains.
CATEGORIES:Seminars,Youtube
LOCATION:LINCS Meeting Room 40\, 23\, avenue d'Italie\, Paris\, 75013\,
 France
GEO:48.8283983;2.3568972000000485
X-APPLE-STRUCTURED-LOCATION;VALUE=URI;X-ADDRESS=23\, avenue d'Italie\,
 Paris\, 75013\, France;X-APPLE-RADIUS=100;X-TITLE=LINCS Meeting Room
 40:geo:48.8283983,2.3568972000000485
END:VEVENT
BEGIN:VTIMEZONE
TZID:Europe/Paris
X-LIC-LOCATION:Europe/Paris
BEGIN:STANDARD
DTSTART:20161030T020000
TZOFFSETFROM:+0200
TZOFFSETTO:+0100
TZNAME:CET
END:STANDARD
END:VTIMEZONE
END:VCALENDAR