BEGIN:VCALENDAR
VERSION:2.0
PRODID:-//wp-events-plugin.com//7.2.3.1//EN
BEGIN:VEVENT
UID:813@lincs.fr
DTSTART;TZID=Europe/Paris:20240131T103000
DTEND;TZID=Europe/Paris:20240131T113000
DTSTAMP:20240226T102000Z
URL:https://www.lincs.fr/events/everyone-procrastinates-a-beamer-demo/
SUMMARY:Everyone procrastinates: a Beamer demo
DESCRIPTION:This tutorial delves into the intricacies of Beamer\, a
 powerful LaTeX document class designed for crafting presentations. We will
 explore basic and advanced features and customization options. Finally\, we
 will discover how to use Beamer for creating
 posters.\n\nhttps://overleaf.lincs.fr/read/psmtjjpmchcx#014e88\n\n&nbsp\;\n
 \n&nbsp\;
CATEGORIES:Tools, Tips and Tricks,Working Group,Youtube
LOCATION:Room 4B01\, 19 place Marguerite Perey\, Palaiseau\, France
X-APPLE-STRUCTURED-LOCATION;VALUE=URI;X-ADDRESS=19 place Marguerite Perey\,
 Palaiseau\, France;X-APPLE-RADIUS=100;X-TITLE=Room 4B01:geo:0,0
END:VEVENT
BEGIN:VTIMEZONE
TZID:Europe/Paris
X-LIC-LOCATION:Europe/Paris
BEGIN:STANDARD
DTSTART:20231029T020000
TZOFFSETFROM:+0200
TZOFFSETTO:+0100
TZNAME:CET
END:STANDARD
END:VTIMEZONE
END:VCALENDAR