BEGIN:VCALENDAR
VERSION:2.0
PRODID:-//wp-events-plugin.com//7.2.3.1//EN
BEGIN:VEVENT
UID:836@lincs.fr
DTSTART;TZID=Europe/Paris:20240619T140000
DTEND;TZID=Europe/Paris:20240619T150000
DTSTAMP:20240617T082613Z
URL:https://www.lincs.fr/events/elevator-self-and-persistent-hub-sampling-
 service-in-unstructured-peer-to-peer-networks/
SUMMARY:Elevator: Self-* and Persistent Hub Sampling Service in
 Unstructured Peer-to-Peer Networks
DESCRIPTION:We present Elevator\, a novel algorithm for hub sampling in
 peer-to-peer networks\, enabling the construction of overlays with
 a\ntopology between a random graph and a star network\, and networks that
 have both hubs and are resilient to failures. Our approach emerges\nfrom
 principles of preferential attachment\, forming hubs spontaneously\,
 offering an innovative solution for decentralized networks that can
 benefit\nuse cases requiring a network with both low diameter and
 resilience to failures.
CATEGORIES:Seminars
LOCATION:Room 4B01\, 19 place Marguerite Perey\, Palaiseau\, France
X-APPLE-STRUCTURED-LOCATION;VALUE=URI;X-ADDRESS=19 place Marguerite Perey\,
 Palaiseau\, France;X-APPLE-RADIUS=100;X-TITLE=Room 4B01:geo:0,0
END:VEVENT
BEGIN:VTIMEZONE
TZID:Europe/Paris
X-LIC-LOCATION:Europe/Paris
BEGIN:DAYLIGHT
DTSTART:20240331T030000
TZOFFSETFROM:+0100
TZOFFSETTO:+0200
TZNAME:CEST
END:DAYLIGHT
END:VTIMEZONE
END:VCALENDAR