BEGIN:VCALENDAR
VERSION:2.0
PRODID:-//wp-events-plugin.com//7.2.3.1//EN
BEGIN:VEVENT
UID:314@lincs.fr
DTSTART;TZID=Europe/Paris:20170712T140000
DTEND;TZID=Europe/Paris:20170712T150000
DTSTAMP:20170925T103916Z
URL:https://www.lincs.fr/events/economic-models-for-wireless-sensor-networ
 k-based-services/
SUMMARY:Economic models for wireless sensor network-based services
DESCRIPTION:The Internet of Things is one of the hottest topics being
 debated today across industries worldwide. Successful IoT deployment needs
 sustainable business models that are well understood. This seminar will
 present such business models\, its rationale and the analytical models used
 for their discussion. The proposals are drawn from the research conducted
 recently by the speaker.The business models are based on service providers
 that intermediate between wireless sensor networks that sense data and
 users that benefit from enhanced service build around the sensed data.
 Scenarios where the service provider operates without and with competition
 are modelled\, analyzed and discussed. The modelling and analysis tools are
 borrowed from microeconomics\, optimization and game theory.The seminar
 will present some scenarios and the models employed for the analysis of
 each one. Then it will proceed to present the analysis performed and\,
 finally\, it will discuss the results of the analysis.
CATEGORIES:Seminars,Youtube
LOCATION:LINCS Seminars room\, 23\, avenue d'Italie\, Paris\, 75013\,
 France
GEO:48.828400;2.356897
X-APPLE-STRUCTURED-LOCATION;VALUE=URI;X-ADDRESS=23\, avenue d'Italie\,
 Paris\, 75013\, France;X-APPLE-RADIUS=100;X-TITLE=LINCS Seminars
 room:geo:48.828400,2.356897
END:VEVENT
BEGIN:VTIMEZONE
TZID:Europe/Paris
X-LIC-LOCATION:Europe/Paris
BEGIN:DAYLIGHT
DTSTART:20170326T030000
TZOFFSETFROM:+0100
TZOFFSETTO:+0200
TZNAME:CEST
END:DAYLIGHT
END:VTIMEZONE
END:VCALENDAR