BEGIN:VCALENDAR
VERSION:2.0
PRODID:-//wp-events-plugin.com//7.2.3.1//EN
BEGIN:VEVENT
UID:87@lincs.fr
DTSTART;TZID=Europe/Paris:20150624T110000
DTEND;TZID=Europe/Paris:20150624T120000
DTSTAMP:20170313T171041Z
URL:https://www.lincs.fr/events/rethinking-competitive-ratio-two-case-stud
 ies/
SUMMARY:Rethinking Competitive-Ratio: Two Case Studies
DESCRIPTION:\n\n\nAbstract:\nCompetitive ratio is traditionally defined by
 asking the question: â€œHow much service can a policy deliver with a
 fixed amount of resourceâ€. This definition requires applications to
 adapt to their perceived service. However\, many emerging applications\,
 such as multimedia and safety-critical applications\, have strict service
 requirements. In order to accommodate these applications\, we redefine
 competitive ratio by asking: â€œHow much resource does a policy need to
 provide a fixed degree of service.â€ By studying two different
 applications\, we demonstrate that answering the second question reveals
 some surprising results.\n\n\nBiography:\nI-Hong Hou is an assistant
 professor in the ECE Department of the Texas A&amp\;M University. He
 received his Ph.D. from the Computer Science Department of the University
 of Illinois at Urbana-Champaign. His research interests include wireless
 networks\, wireless sensor networks\, and real-time systems. He received
 the C.W. Gear Outstanding Graduate Student Award from the University of
 Illinois at Urbana-Champaign\, and the Silver Prize in the Asian Pacific
 Mathematics Olympiad.\n\n\n
CATEGORIES:Seminars,Youtube
LOCATION:LINCS Meeting Room 40\, 23\, avenue d'Italie\, Paris\, 75013\,
 France
GEO:48.8283983;2.3568972000000485
X-APPLE-STRUCTURED-LOCATION;VALUE=URI;X-ADDRESS=23\, avenue d'Italie\,
 Paris\, 75013\, France;X-APPLE-RADIUS=100;X-TITLE=LINCS Meeting Room
 40:geo:48.8283983,2.3568972000000485
END:VEVENT
BEGIN:VTIMEZONE
TZID:Europe/Paris
X-LIC-LOCATION:Europe/Paris
BEGIN:DAYLIGHT
DTSTART:20150329T030000
TZOFFSETFROM:+0100
TZOFFSETTO:+0200
TZNAME:CEST
END:DAYLIGHT
END:VTIMEZONE
END:VCALENDAR