BEGIN:VCALENDAR
VERSION:2.0
PRODID:-//wp-events-plugin.com//7.2.3.1//EN
BEGIN:VEVENT
UID:884@lincs.fr
DTSTART;TZID=Europe/Paris:20250409T140000
DTEND;TZID=Europe/Paris:20250409T150000
DTSTAMP:20250407T100234Z
URL:https://www.lincs.fr/events/data-compression-with-locality-properties/
SUMMARY:Data Compression with Locality Properties
DESCRIPTION:Traditional compression schemes typically require decompressing
 the entire compressed archive to access a single bit. Similarly\, updating
 a single bit requires re-encoding the entire archive. In this talk\, I will
 present recent advances in compression with locality\, where the goal is to
 minimize the number of bits that need to be accessed or modified when
 decoding or updating a single bit. Sample questions we will address
 include: What is the minimum number of bits that must be read or changed to
 decode or update a single bit? How does this minimum change when
 compression is handled in a distributed fashion (à la Slepian-Wolf)? And
 is it possible to decode a single bit with perfect privacy?
CATEGORIES:Seminars
LOCATION:Amphi 6\, 19 Place Marguerite Perey\, Palaiseau\, France
X-APPLE-STRUCTURED-LOCATION;VALUE=URI;X-ADDRESS=19 Place Marguerite Perey\,
 Palaiseau\, France;X-APPLE-RADIUS=100;X-TITLE=Amphi 6:geo:0,0
END:VEVENT
BEGIN:VTIMEZONE
TZID:Europe/Paris
X-LIC-LOCATION:Europe/Paris
BEGIN:DAYLIGHT
DTSTART:20250330T030000
TZOFFSETFROM:+0100
TZOFFSETTO:+0200
TZNAME:CEST
END:DAYLIGHT
END:VTIMEZONE
END:VCALENDAR