BEGIN:VCALENDAR
VERSION:2.0
PRODID:-//wp-events-plugin.com//7.2.3.1//EN
BEGIN:VEVENT
UID:118@lincs.fr
DTSTART;TZID=Europe/Paris:20141210T140000
DTEND;TZID=Europe/Paris:20141210T150000
DTSTAMP:20220208T132622Z
URL:https://www.lincs.fr/events/cost-s-https/
SUMMARY:The Cost of the &quot\;S&quot\; in HTTPS
DESCRIPTION:Increased user concern over security and privacy on the
 Internet has led towidespread adoption of HTTPS\, the secure version of
 HTTP. HTTPS authenticatesthe communicating end points and provides
 confidentiality for the ensuingcommunication. However\, as with any
 security solution\, it does not come forfree. HTTPS may introduce overhead
 in terms of infrastructure costs\,communication latency\, data usage\, and
 energy consumption. Moreover\, given theopaqueness of the encrypted
 communication\, any in-network value added servicesrequiring visibility
 into application layer content\, such as caches and virusscanners\, become
 ineffective.This paper attempts to shed some light on these costs. First\,
 taking advantageof datasets collected from large ISPs\, we examine the
 accelerating adoption ofHTTPS over the last three years. Second\, we
 quantify the direct and indirectcosts of this evolution. Our results show
 that\, indeed\, security does not comefor free. This work thus aims to
 stimulate discussion on technologies that canmitigate the costs of HTTPS
 while still protecting the user's privacy.
CATEGORIES:Seminars
LOCATION:LINCS Meeting Room 40\, 23\, avenue d'Italie\, Paris\, 75013\,
 France
GEO:48.8283983;2.3568972000000485
X-APPLE-STRUCTURED-LOCATION;VALUE=URI;X-ADDRESS=23\, avenue d'Italie\,
 Paris\, 75013\, France;X-APPLE-RADIUS=100;X-TITLE=LINCS Meeting Room
 40:geo:48.8283983,2.3568972000000485
END:VEVENT
BEGIN:VTIMEZONE
TZID:Europe/Paris
X-LIC-LOCATION:Europe/Paris
BEGIN:STANDARD
DTSTART:20141026T020000
TZOFFSETFROM:+0200
TZOFFSETTO:+0100
TZNAME:CET
END:STANDARD
END:VTIMEZONE
END:VCALENDAR