BEGIN:VCALENDAR
VERSION:2.0
PRODID:-//wp-events-plugin.com//7.2.3.1//EN
BEGIN:VEVENT
UID:54@lincs.fr
DTSTART;TZID=Europe/Paris:20160418T120000
DTEND;TZID=Europe/Paris:20160418T130000
DTSTAMP:20170313T170917Z
URL:https://www.lincs.fr/events/webstrates-shareable-dynamic-media/
SUMMARY:Webstrates : Shareable Dynamic Media
DESCRIPTION:I present our ACM UIST'15 Best Paper Award-winning research on
 Webstrates: Shareable Dynamic Media. In this work\, we revisit Alan Kay's
 early vision of dynamic media\, which blur the distinction between document
 and application. We introduce shareable dynamic media\, which are malleable
 by users\, who may appropriate them in idiosyncratic ways\; shareable among
 users\, who can collaborate on multiple aspects of the media\; and
 distributable across diverse devices and platforms. We present Webstrates\,
 an environment for exploring shareable dynamic media. Webstrates augment
 web technology with real-time sharing. They turn web pages into
 substrates\, i.e. software entities that act as applications or documents
 depending upon use. We illustrate Webstrates with two implemented case
 studies: users collaboratively author an article with functionally and
 visually different editors that they can personalize and extend at
 run-time\; and they orchestrate its presentation and audience participation
 with multiple devices.\n\nThis talk will take place at Telecom Paristech
 rue Barrault\,(Room TBD)\n
CATEGORIES:Seminars
END:VEVENT
BEGIN:VTIMEZONE
TZID:Europe/Paris
X-LIC-LOCATION:Europe/Paris
BEGIN:DAYLIGHT
DTSTART:20160327T030000
TZOFFSETFROM:+0100
TZOFFSETTO:+0200
TZNAME:CEST
END:DAYLIGHT
END:VTIMEZONE
END:VCALENDAR