BEGIN:VCALENDAR
VERSION:2.0
PRODID:-//wp-events-plugin.com//7.2.3.1//EN
BEGIN:VEVENT
UID:189@lincs.fr
DTSTART;TZID=Europe/Paris:20120321T150000
DTEND;TZID=Europe/Paris:20120321T151500
DTSTAMP:20220210T141622Z
URL:https://www.lincs.fr/events/an-effective-hop-by-hop-interest-shaping-m
 echanism-for-ccn-communications/
SUMMARY:An effective hop-by-hop interest shaping mechanism for CCN
 communications
DESCRIPTION:Preview of talk at INFOCOM 2012 and associated workshop.\n\nWe
 introduce a rate-based congestion control mechanism for Content-Centric
 Networking (CCN). It builds on the fact that one Interest retrieves at most
 one Data packet. Congestion can occur when aggregate conversations arrive
 in excess and fill up the transmission queue of a CCN router. We compute
 the available capacity of each CCN router in a distributed way in order to
 shape their conversations Interest rate and therefore adjust dynamically
 their data rate and transmission buffer occupancy. We demonstrate the
 convergence properties of this Hop-by-hop Interest Shaping mechanism
 (HoBHIS) and provide a performance analysis based on various scenarios
 using our ns-2 simulation environment.\n\nJoint work with Serge Fdida.
CATEGORIES:Previews,Youtube
LOCATION:LINCS Meeting Room 40\, 23\, avenue d'Italie\, Paris\, 75013\,
 France
GEO:48.8283983;2.3568972000000485
X-APPLE-STRUCTURED-LOCATION;VALUE=URI;X-ADDRESS=23\, avenue d'Italie\,
 Paris\, 75013\, France;X-APPLE-RADIUS=100;X-TITLE=LINCS Meeting Room
 40:geo:48.8283983,2.3568972000000485
END:VEVENT
BEGIN:VTIMEZONE
TZID:Europe/Paris
X-LIC-LOCATION:Europe/Paris
BEGIN:STANDARD
DTSTART:20111030T020000
TZOFFSETFROM:+0200
TZOFFSETTO:+0100
TZNAME:CET
END:STANDARD
END:VTIMEZONE
END:VCALENDAR