BEGIN:VCALENDAR
VERSION:2.0
PRODID:-//wp-events-plugin.com//7.2.3.1//EN
BEGIN:VEVENT
UID:52@lincs.fr
DTSTART;TZID=Europe/Paris:20160420T140000
DTEND;TZID=Europe/Paris:20160420T150000
DTSTAMP:20170313T170916Z
URL:https://www.lincs.fr/events/where-are-the-anycasters/
SUMMARY:Where are the anycasters
DESCRIPTION:Use of anycast IP addresses has increased in the last few
 years: once relegated to DNS root and top-level domain servers\, anycast is
 now commonly used to assist distribution of general purpose content by CDN
 providers. Yet\, most anycast discovery methodologies rely so far on DNS\,
 which limits their usefulness to this particular service. This raises the
 need for protocol agnostic methodologies\, that should additionally be as
 lightweight as possible in order to scale up anycast service discovery.Our
 anycast discovery method allows for exhaustive and accurate enumeration and
 city-level geolocation of anycast replicas\, with the constraints of only
 leverages a handful of latency measurements from a set of known probes. The
 method exploits an iterative workflow to enumerate (optimization problem)
 and geolocate (classification problem) anycast instances. The method is so
 lightweight and protocol agnostic that we were able to perform several
 censuses of the whole IPv4 Internet\, recollecting all anycast deployments.
 Finally\, we carry on a passive study of anycast traffic to refine the
 picture of services currently served over IP anycast. All our code\,
 dataset and further information are available
 athttp://www.enst.fr/~drossi/anycast
CATEGORIES:Seminars,Youtube
LOCATION:LINCS Meeting Room 40\, 23\, avenue d'Italie\, Paris\, 75013\,
 France
GEO:48.8283983;2.3568972000000485
X-APPLE-STRUCTURED-LOCATION;VALUE=URI;X-ADDRESS=23\, avenue d'Italie\,
 Paris\, 75013\, France;X-APPLE-RADIUS=100;X-TITLE=LINCS Meeting Room
 40:geo:48.8283983,2.3568972000000485
END:VEVENT
BEGIN:VTIMEZONE
TZID:Europe/Paris
X-LIC-LOCATION:Europe/Paris
BEGIN:DAYLIGHT
DTSTART:20160327T030000
TZOFFSETFROM:+0100
TZOFFSETTO:+0200
TZNAME:CEST
END:DAYLIGHT
END:VTIMEZONE
END:VCALENDAR