BEGIN:VCALENDAR
VERSION:2.0
PRODID:-//wp-events-plugin.com//7.2.3.1//EN
BEGIN:VEVENT
UID:91@lincs.fr
DTSTART;TZID=Europe/Paris:20150610T140000
DTEND;TZID=Europe/Paris:20150610T143000
DTSTAMP:20170313T171043Z
URL:https://www.lincs.fr/events/a-novel-spectral-algorithm-for-the-identif
 ication-of-overlapping-communities/
SUMMARY:A novel spectral algorithm for the identification of overlapping
 communities
DESCRIPTION:Spectral algorithms are popular methods for finding a partition
 of a network into groups of nodes that are densely connected\, called
 communities. However\, the structure of many real world networks is better
 explained by a set of overlapping communities than by a partition. In this
 talk\, I will present combinatorial spectral clustering (CSC)\, a simple
 spectral algorithm designed to identify overlapping communities. The
 algorithm is motivated by a random graph model called stochastic blockmodel
 with overlap (SBMO)\, under which it is proved to be consistent. Joint work
 with Thomas Bonald and Marc Lelarge.
CATEGORIES:Seminars,Youtube
LOCATION:LINCS Meeting Room 40\, 23\, avenue d'Italie\, Paris\, 75013\,
 France
GEO:48.8283983;2.3568972000000485
X-APPLE-STRUCTURED-LOCATION;VALUE=URI;X-ADDRESS=23\, avenue d'Italie\,
 Paris\, 75013\, France;X-APPLE-RADIUS=100;X-TITLE=LINCS Meeting Room
 40:geo:48.8283983,2.3568972000000485
END:VEVENT
BEGIN:VTIMEZONE
TZID:Europe/Paris
X-LIC-LOCATION:Europe/Paris
BEGIN:DAYLIGHT
DTSTART:20150329T030000
TZOFFSETFROM:+0100
TZOFFSETTO:+0200
TZNAME:CEST
END:DAYLIGHT
END:VTIMEZONE
END:VCALENDAR