BEGIN:VCALENDAR
VERSION:2.0
PRODID:-//wp-events-plugin.com//7.2.3.1//EN
BEGIN:VEVENT
UID:25@lincs.fr
DTSTART;TZID=Europe/Paris:20120208T140000
DTEND;TZID=Europe/Paris:20120208T150000
DTSTAMP:20170313T170643Z
URL:https://www.lincs.fr/events/vnext-virtual-network-management-for-xen-b
 ased-testbeds/
SUMMARY:VNEXT: Virtual NEtwork management for Xen-based Testbeds
DESCRIPTION:Network testbeds strongly rely on virtualization that allows
 the simultaneous execution of multiple protocol stacks but also increases
 the management and control tasks. This talk presents a system to control
 and manage virtual networks based on the Xen platform. The goal of the
 proposed system is to assist network administrators to perform
 decision-making in this challenging virtualized environment. The system
 management and control tasks consist of defining virtual networks\, turning
 on\, turning off\, migrating virtual routers\, and monitoring the virtual
 networks within few mouse clicks thanks to a user-friendly graphical
 interface. The administrator can also perform high-level decisions\, such
 as redefining the virtual network topology by using the plane-separation
 and loss-free live migration functionality\, or saving energy by shutting
 down physical routers. Performance tests assure the system has low response
 time.\n\nBiography: Miguel Elias Mitre Campista was born in Rio de
 Janeiro\, Brazil\, on May 8th\, 1980. He received the Telecommunications
 Engineer degree from the Fluminense Federal University (UFF)\, Rio de
 Janeiro\, Brazil\, in 2003 and the M.Sc. and D.Sc. degrees in Electrical
 Engineering from the Federal University of Rio de Janeiro (UFRJ)\, Rio de
 Janeiro\, Brazil\, in 2005 and 2008\, respectively. Currently\, Miguel is
 with GTA Laboratory in COPPE/UFRJ. His major research interests are in
 multihop wireless networks\, quality of service\, wireless routing\,
 wireless mesh networks\, and home networks.
CATEGORIES:Seminars,Youtube
LOCATION:LINCS Meeting Room 40\, 23\, avenue d'Italie\, Paris\, 75013\,
 France
GEO:48.8283983;2.3568972000000485
X-APPLE-STRUCTURED-LOCATION;VALUE=URI;X-ADDRESS=23\, avenue d'Italie\,
 Paris\, 75013\, France;X-APPLE-RADIUS=100;X-TITLE=LINCS Meeting Room
 40:geo:48.8283983,2.3568972000000485
END:VEVENT
BEGIN:VTIMEZONE
TZID:Europe/Paris
X-LIC-LOCATION:Europe/Paris
BEGIN:STANDARD
DTSTART:20111030T020000
TZOFFSETFROM:+0200
TZOFFSETTO:+0100
TZNAME:CET
END:STANDARD
END:VTIMEZONE
END:VCALENDAR