BEGIN:VCALENDAR
VERSION:2.0
PRODID:-//wp-events-plugin.com//7.2.3.1//EN
BEGIN:VEVENT
UID:506@lincs.fr
DTSTART;TZID=Europe/Paris:20191016T103000
DTEND;TZID=Europe/Paris:20191016T120000
DTSTAMP:20191125T141859Z
URL:https://www.lincs.fr/events/7121/
SUMMARY:Introduction to CherryPy
DESCRIPTION:\nFor most daily research tasks\, a Jupyter Notebook is more
 than enough to do anything one wants. Yet\, there are situations where it
 can be useful to turn your Python programs into a Website:\n\n\n\n\nSharing
 results with someone that does not know Python or Notebooks\,\nPreparing a
 demo\,\nHaving a program in Computer A that starts and retrieve computation
 results from computer B.\n\n\n\n\nDuring this tutorial\, we'll show you how
 to easily deploy Python code on http by using CherryPy.\nDownload the
 files.\n
CATEGORIES:Tools, Tips and Tricks,Working Group
LOCATION:Doctoral Training Center (EIT Digital)\, 23\, avenue d'Italie\,
 Paris\, 75013\, France
GEO:48.8283983;2.3568972000000485
X-APPLE-STRUCTURED-LOCATION;VALUE=URI;X-ADDRESS=23\, avenue d'Italie\,
 Paris\, 75013\, France;X-APPLE-RADIUS=100;X-TITLE=Doctoral Training Center
 (EIT Digital):geo:48.8283983,2.3568972000000485
END:VEVENT
BEGIN:VTIMEZONE
TZID:Europe/Paris
X-LIC-LOCATION:Europe/Paris
BEGIN:DAYLIGHT
DTSTART:20190331T030000
TZOFFSETFROM:+0100
TZOFFSETTO:+0200
TZNAME:CEST
END:DAYLIGHT
END:VTIMEZONE
END:VCALENDAR