BEGIN:VCALENDAR
VERSION:2.0
PRODID:-//wp-events-plugin.com//7.2.3.1//EN
BEGIN:VEVENT
UID:601@lincs.fr
DTSTART;TZID=Europe/Paris:20210303T140000
DTEND;TZID=Europe/Paris:20210303T150000
DTSTAMP:20210316T090242Z
URL:https://www.lincs.fr/events/2nd-seminar-talk-by-professor-ravi-mazumda
 r-university-of-waterloo-2/
SUMMARY:FCLTs for Determining the Performance in Finite Systems of Servers
 with Randomized Load Balancing
DESCRIPTION:Here the abstract and bibliography provided by Professor
 Mazumdar for his
 talk:&nbsp\;http://www.lincs.fr/wp-content/uploads/2021/01/FCLT_MFE.pdf&nbs
 p\;
CATEGORIES:Seminars,Youtube
LOCATION:Zoom + LINCS\, 23 avenue d'Italie\, Paris\, 75013\, France
X-APPLE-STRUCTURED-LOCATION;VALUE=URI;X-ADDRESS=23 avenue d'Italie\,
 Paris\, 75013\, France;X-APPLE-RADIUS=100;X-TITLE=Zoom + LINCS:geo:0,0
END:VEVENT
BEGIN:VTIMEZONE
TZID:Europe/Paris
X-LIC-LOCATION:Europe/Paris
BEGIN:STANDARD
DTSTART:20201025T020000
TZOFFSETFROM:+0200
TZOFFSETTO:+0100
TZNAME:CET
END:STANDARD
END:VTIMEZONE
END:VCALENDAR