BEGIN:VCALENDAR
VERSION:2.0
PRODID:-//wp-events-plugin.com//7.2.3.1//EN
BEGIN:VEVENT
UID:157@lincs.fr
DTSTART;TZID=Europe/Paris:20140605T084500
DTEND;TZID=Europe/Paris:20140606T193000
DTSTAMP:20170313T171306Z
URL:https://www.lincs.fr/events/2014-lincs-workshop/
SUMMARY:2014 LINCS Workshop
DESCRIPTION:Workshop LINCS - agenda 2014-2\n\nWorkshop\nLINCS and its
 Scientific Committee\nJune 5th and 6th\, 2014\nLINCS - 23 avenue
 dâ€™Italie\, 4th floor â€“ 75013 Paris\n\nAgenda\nJune
 5th\nWelcome 8:45 / 09:00\n\nPresentation of the LINCS â€“ summary of
 recent achievements Prof. Daniel Kofman 9:00 / 09:30\nInvited talk from
 SC-1 Evaluating Mobility in Next-generation Network\nArchitectures\, Prof.
 Jim Kurose\, University of Massachusetts 9:30 / 10:15\nTalk from LINCS
 â€“ 1: An overview of recent results on Information-centric networking
 with a focus on traffic control and caching\, Luca Muscariello/Diego
 Perino/Dario Rossi 10:15 / 10:45\n\nCoffee break 10:45 / 11:15\n\nInvited
 talk from the SC-2 The Road for Enabling Consumer Cloud Services at the
 Enterprise - Prof. Israel Cidon\, Technion 11:15 / 12:00\nTalks from LINCS
 â€“ 2 (2 short talks on new covered topics)\nNDN for the support of
 advanced applications in vehicular Networks\, Dr Giovanni Pau\nLingering
 issuesin distributed scheduling\, Florian Simatos 12:00 / 12:30\n\nLunch
 12:30 / 14:00\n\nPoster Session by PhD students 14:00 / 16:00\n\nCoffee
 break 16:00 / 16:30\n\nIndustry Panel: Trends in ICT and the role of
 research\nIsrael Cidon â€“ Sookasa\, Vania Conan â€“ Thales\,
 Dohy Hong â€“ Samsung\, Robert Plana â€“ Alstom\, Krishan Sabnani
 â€“ Alcatel-Lucent\, Dirk Trossen - Interdigital\, Claire
 Waast-Richard â€“ EDF. 16:30 / 17:30\nTalk from LINCS -3\nAn overview
 of recent results on network theory\, with a focus on dense wireless
 network modeling and analysis - Marc Lelarge 17:30 / 18:00\n\nSocial Event
 (Diner) 19:30 / 22:00\n\n&nbsp\;\n\n&nbsp\;\n\nJune 6th\nWelcome 09:00/
 09:30\n\nInvited talk from the SC-3 Overcoming the Challenges of Network
 Technology Adoption\, Prof. Roch Guerin\, Washington University Saint-Louis
 09:30 / 10:15\n\nCoffee break 10:15 / 10:45\n\nTalk from LINCS -4 (3 short
 talks on new covered topics)\nEnhanced Cluster Computing Performance
 through Proportional Fairness\, Jim Roberts\nThe Network is a Database\,
 Jordan AugÃ©/Marc-Olivier Buob\nPassive Content Curation Based on HTTP
 Logs\, Zied Ben-Houidi 10:45 / 11:30\nTalk from LINCS 5 â€“ Awarded
 PhD paper 11:30 / 12:00\n\nLunch 12:00 / 14:00\n\nInvited talk from the
 SC-4 A From Gossip to Voting â€“ Prof. Patrick Thiran\, EPFL 14:00 /
 14:45\n\nDiscussions:\n- graduate studentsâ€™ experience at LINCS\n-
 graduate studentsâ€™ exchange with the Scientific Committee 14:45 /
 15:15\nCoffee break 15:15 / 15:45\n\nIn parallel:\n- Meeting of the
 Scientific Committee\n- Poster session (to continue the discussion on the
 posters presented on June 5th) 16:00 / 17:30\nThe view of the Scientific
 Committee 17:30 / 18:00\n\nConclusion and End of event 18:00 /
 18:15\nWrap-up\n- Scientific Committee and Executive Committee 18:15 /
 19:15\n\n&nbsp\;
CATEGORIES:Seminars
LOCATION:LINCS Meeting Room 40\, 23\, avenue d'Italie\, Paris\, 75013\,
 France
GEO:48.8283983;2.3568972000000485
X-APPLE-STRUCTURED-LOCATION;VALUE=URI;X-ADDRESS=23\, avenue d'Italie\,
 Paris\, 75013\, France;X-APPLE-RADIUS=100;X-TITLE=LINCS Meeting Room
 40:geo:48.8283983,2.3568972000000485
END:VEVENT
BEGIN:VTIMEZONE
TZID:Europe/Paris
X-LIC-LOCATION:Europe/Paris
BEGIN:DAYLIGHT
DTSTART:20140330T030000
TZOFFSETFROM:+0100
TZOFFSETTO:+0200
TZNAME:CEST
END:DAYLIGHT
END:VTIMEZONE
END:VCALENDAR